BEGIN:VCALENDAR
VERSION:2.0
PRODID:-//Sussex Radio Flying Club - ECPv6.15.20//NONSGML v1.0//EN
CALSCALE:GREGORIAN
METHOD:PUBLISH
X-ORIGINAL-URL:https://srfc.bmfa.club
X-WR-CALDESC:Events for Sussex Radio Flying Club
REFRESH-INTERVAL;VALUE=DURATION:PT1H
X-Robots-Tag:noindex
X-PUBLISHED-TTL:PT1H
BEGIN:VTIMEZONE
TZID:Europe/London
BEGIN:DAYLIGHT
TZOFFSETFROM:+0000
TZOFFSETTO:+0100
TZNAME:BST
DTSTART:20250330T010000
END:DAYLIGHT
BEGIN:STANDARD
TZOFFSETFROM:+0100
TZOFFSETTO:+0000
TZNAME:GMT
DTSTART:20251026T010000
END:STANDARD
BEGIN:DAYLIGHT
TZOFFSETFROM:+0000
TZOFFSETTO:+0100
TZNAME:BST
DTSTART:20260329T010000
END:DAYLIGHT
BEGIN:STANDARD
TZOFFSETFROM:+0100
TZOFFSETTO:+0000
TZNAME:GMT
DTSTART:20261025T010000
END:STANDARD
BEGIN:DAYLIGHT
TZOFFSETFROM:+0000
TZOFFSETTO:+0100
TZNAME:BST
DTSTART:20270328T010000
END:DAYLIGHT
BEGIN:STANDARD
TZOFFSETFROM:+0100
TZOFFSETTO:+0000
TZNAME:GMT
DTSTART:20271031T010000
END:STANDARD
END:VTIMEZONE
BEGIN:VEVENT
DTSTART;TZID=Europe/London:20260606T150000
DTEND;TZID=Europe/London:20260606T200000
DTSTAMP:20260421T024623
CREATED:20260411T101318Z
LAST-MODIFIED:20260411T102127Z
UID:4878-1780758000-1780776000@srfc.bmfa.club
SUMMARY:June Club Afternoon & BBQ - "Chris Foss models"
DESCRIPTION:June Club afternoon & BBQ at Coombes will include themed flying plus general flying between slots\, starting at 15:00 and finishing at 19:00 to 20:00 depending upon conditions. \nThe June theme will be “Chris Foss Models”. \nCome and fly\, or just enjoy the BBQ and the chat! \nNote that all models are welcome in the general flying slots.
URL:https://srfc.bmfa.club/event/june-club-afternoon-bbq-chris-foss-models
LOCATION:Coombes\, South Downs National Park\, Lancing\, West Sussex\, BN15\, United Kingdom
END:VEVENT
BEGIN:VEVENT
DTSTART;TZID=Europe/London:20260611T130000
DTEND;TZID=Europe/London:20260611T140000
DTSTAMP:20260421T024623
CREATED:20260320T114955Z
LAST-MODIFIED:20260320T114955Z
UID:4830-1781182800-1781186400@srfc.bmfa.club
SUMMARY:Glider mid-week contest 5
DESCRIPTION:The 2026 competition for up to 2.5m span electrically launched gliders will begin in April as usual and will run at Coombes\, twice a month on Thursdays at 1300 for around an hour\, until mid September. A simple height limiter is required. The club has spares available and they are easily fitted on the day. Contact the glider representative if you need to borrow one.
URL:https://srfc.bmfa.club/event/glider-mid-week-contest-5
LOCATION:Coombes\, South Downs National Park\, Lancing\, West Sussex\, BN15\, United Kingdom
END:VEVENT
BEGIN:VEVENT
DTSTART;TZID=Europe/London:20260618T130000
DTEND;TZID=Europe/London:20260618T143000
DTSTAMP:20260421T024623
CREATED:20260320T083213Z
LAST-MODIFIED:20260325T105517Z
UID:4814-1781787600-1781793000@srfc.bmfa.club
SUMMARY:Power contest 3
DESCRIPTION:Paul Shrubb is running these monthly Thursday competitions which comprise a selection of fun tasks chosen on the day. Take a look at this guide before the day. Power comp guide \nThe competitions will take place on Thursdays at Coombes. They will start at 1pm and last about an hour and a half. \nAs always\, they are weather dependant. Join the Coombes WhatsApp group for the latest updates.
URL:https://srfc.bmfa.club/event/power-contest-3
LOCATION:Coombes\, South Downs National Park\, Lancing\, West Sussex\, BN15\, United Kingdom
ORGANIZER;CN="Paul Shrubb":MAILTO:paul.shrubb.srfc@gmail.com
END:VEVENT
BEGIN:VEVENT
DTSTART;TZID=Europe/London:20260625T130000
DTEND;TZID=Europe/London:20260625T140000
DTSTAMP:20260421T024623
CREATED:20260320T115042Z
LAST-MODIFIED:20260320T115042Z
UID:4832-1782392400-1782396000@srfc.bmfa.club
SUMMARY:Glider mid-week contest 6
DESCRIPTION:The 2026 competition for up to 2.5m span electrically launched gliders will begin in April as usual and will run at Coombes\, twice a month on Thursdays at 1300 for around an hour\, until mid September. A simple height limiter is required. The club has spares available and they are easily fitted on the day. Contact the glider representative if you need to borrow one.
URL:https://srfc.bmfa.club/event/glider-mid-week-contest-6
LOCATION:Coombes\, South Downs National Park\, Lancing\, West Sussex\, BN15\, United Kingdom
END:VEVENT
BEGIN:VEVENT
DTSTART;TZID=Europe/London:20260628T130000
DTEND;TZID=Europe/London:20260628T140000
DTSTAMP:20260421T024623
CREATED:20260320T120307Z
LAST-MODIFIED:20260320T120307Z
UID:4853-1782651600-1782655200@srfc.bmfa.club
SUMMARY:Glider RES contest 3 – Sunday at Ashurst
DESCRIPTION:Monthly contest starting at 1300 and lasting around an hour for up to 2m span electrically launched RES gliders. These have Rudder\, Elevator & Spoiler controls only. A simple height limiter is required. The club has two spares available and they are easily fitted on the day. Contact the glider representative if you need to borrow one.
URL:https://srfc.bmfa.club/event/glider-res-contest-3-sunday-at-ashurst
LOCATION:Ashurst\, Horsham Road\, Ashurst\, West Sussex\, United Kingdom
END:VEVENT
BEGIN:VEVENT
DTSTART;TZID=Europe/London:20260704T150000
DTEND;TZID=Europe/London:20260704T200000
DTSTAMP:20260421T024623
CREATED:20260411T101533Z
LAST-MODIFIED:20260411T101600Z
UID:4879-1783177200-1783195200@srfc.bmfa.club
SUMMARY:July Club Afternoon & BBQ - "Vintage & Biplanes"
DESCRIPTION:July Club afternoon & BBQ at Coombes will include themed flying plus general flying between slots\, starting at 15:00 and finishing at 19:00 to 20:00 depending upon conditions. \nThe July theme will be “Vintage & Biplanes”. \nCome and fly\, or just enjoy the BBQ and the chat! \nNote that all models are welcome in the general flying slots.
URL:https://srfc.bmfa.club/event/july-club-afternoon-bbq-vintage-biplanes
LOCATION:Coombes\, South Downs National Park\, Lancing\, West Sussex\, BN15\, United Kingdom
END:VEVENT
BEGIN:VEVENT
DTSTART;TZID=Europe/London:20260709T130000
DTEND;TZID=Europe/London:20260709T140000
DTSTAMP:20260421T024623
CREATED:20260320T115134Z
LAST-MODIFIED:20260320T115134Z
UID:4834-1783602000-1783605600@srfc.bmfa.club
SUMMARY:Glider mid-week contest 7
DESCRIPTION:The 2026 competition for up to 2.5m span electrically launched gliders will begin in April as usual and will run at Coombes\, twice a month on Thursdays at 1300 for around an hour\, until mid September. A simple height limiter is required. The club has spares available and they are easily fitted on the day. Contact the glider representative if you need to borrow one.
URL:https://srfc.bmfa.club/event/glider-mid-week-contest-7
LOCATION:Coombes\, South Downs National Park\, Lancing\, West Sussex\, BN15\, United Kingdom
END:VEVENT
BEGIN:VEVENT
DTSTART;TZID=Europe/London:20260716T130000
DTEND;TZID=Europe/London:20260716T143000
DTSTAMP:20260421T024623
CREATED:20260320T083302Z
LAST-MODIFIED:20260325T105501Z
UID:4816-1784206800-1784212200@srfc.bmfa.club
SUMMARY:Power contest 4
DESCRIPTION:Paul Shrubb is running these monthly Thursday competitions which comprise a selection of fun tasks chosen on the day.Take a look at this guide before the day. Power comp guide \nThe competitions will take place on Thursdays at Coombes. They will start at 1pm and last about an hour and a half. \nAs always\, they are weather dependant. Join the Coombes WhatsApp group for the latest updates.
URL:https://srfc.bmfa.club/event/power-contest-4
LOCATION:Coombes\, South Downs National Park\, Lancing\, West Sussex\, BN15\, United Kingdom
ORGANIZER;CN="Paul Shrubb":MAILTO:paul.shrubb.srfc@gmail.com
END:VEVENT
BEGIN:VEVENT
DTSTART;TZID=Europe/London:20260723T130000
DTEND;TZID=Europe/London:20260723T140000
DTSTAMP:20260421T024623
CREATED:20260320T115221Z
LAST-MODIFIED:20260320T115221Z
UID:4836-1784811600-1784815200@srfc.bmfa.club
SUMMARY:Glider mid-week contest 8
DESCRIPTION:The 2026 competition for up to 2.5m span electrically launched gliders will begin in April as usual and will run at Coombes\, twice a month on Thursdays at 1300 for around an hour\, until mid September. A simple height limiter is required. The club has spares available and they are easily fitted on the day. Contact the glider representative if you need to borrow one.
URL:https://srfc.bmfa.club/event/glider-mid-week-contest-8
LOCATION:Coombes\, South Downs National Park\, Lancing\, West Sussex\, BN15\, United Kingdom
END:VEVENT
BEGIN:VEVENT
DTSTART;TZID=Europe/London:20260726T130000
DTEND;TZID=Europe/London:20260726T140000
DTSTAMP:20260421T024623
CREATED:20260320T120403Z
LAST-MODIFIED:20260320T120403Z
UID:4855-1785070800-1785074400@srfc.bmfa.club
SUMMARY:Glider RES contest 4 – Sunday at Ashurst
DESCRIPTION:Monthly contest starting at 1300 and lasting around an hour for up to 2m span electrically launched RES gliders. These have Rudder\, Elevator & Spoiler controls only. A simple height limiter is required. The club has two spares available and they are easily fitted on the day. Contact the glider representative if you need to borrow one.
URL:https://srfc.bmfa.club/event/glider-res-contest-4-sunday-at-ashurst
LOCATION:Ashurst\, Horsham Road\, Ashurst\, West Sussex\, United Kingdom
END:VEVENT
BEGIN:VEVENT
DTSTART;TZID=Europe/London:20260801T150000
DTEND;TZID=Europe/London:20260801T200000
DTSTAMP:20260421T024623
CREATED:20260411T101828Z
LAST-MODIFIED:20260411T101828Z
UID:4883-1785596400-1785614400@srfc.bmfa.club
SUMMARY:August Club Afternoon & BBQ - "Gliders & Jets (includes static jets concours)"
DESCRIPTION:August Club afternoon & BBQ at Coombes will include slots for two themes plus general flying between slots\, starting at 15:00 and finishing at 19:00 to 20:00 depending upon conditions. \nThe August themes will be “Gliders & Jets (includes static jets concours)”. \nCome and fly\, or just enjoy the BBQ and the chat! \nNote that all models are welcome in the general flying slots.
URL:https://srfc.bmfa.club/event/august-club-afternoon-bbq-gliders-jets-includes-static-jets-concours
LOCATION:Coombes\, South Downs National Park\, Lancing\, West Sussex\, BN15\, United Kingdom
END:VEVENT
BEGIN:VEVENT
DTSTART;TZID=Europe/London:20260813T130000
DTEND;TZID=Europe/London:20260813T140000
DTSTAMP:20260421T024623
CREATED:20260320T115316Z
LAST-MODIFIED:20260320T115316Z
UID:4838-1786626000-1786629600@srfc.bmfa.club
SUMMARY:Glider mid-week contest 9
DESCRIPTION:The 2026 competition for up to 2.5m span electrically launched gliders will begin in April as usual and will run at Coombes\, twice a month on Thursdays at 1300 for around an hour\, until mid September. A simple height limiter is required. The club has spares available and they are easily fitted on the day. Contact the glider representative if you need to borrow one.
URL:https://srfc.bmfa.club/event/glider-mid-week-contest-9
LOCATION:Coombes\, South Downs National Park\, Lancing\, West Sussex\, BN15\, United Kingdom
END:VEVENT
BEGIN:VEVENT
DTSTART;TZID=Europe/London:20260820T130000
DTEND;TZID=Europe/London:20260820T143000
DTSTAMP:20260421T024623
CREATED:20260320T083349Z
LAST-MODIFIED:20260325T105448Z
UID:4818-1787230800-1787236200@srfc.bmfa.club
SUMMARY:Power contest 5
DESCRIPTION:Paul Shrubb is running these monthly Thursday competitions which comprise a selection of fun tasks chosen on the day.Take a look at this guide before the day. Power comp guide \nThe competitions will take place on Thursdays at Coombes. They will start at 1pm and last about an hour and a half. \nAs always\, they are weather dependant. Join the Coombes WhatsApp group for the latest updates.
URL:https://srfc.bmfa.club/event/power-contest-5
LOCATION:Coombes\, South Downs National Park\, Lancing\, West Sussex\, BN15\, United Kingdom
ORGANIZER;CN="Paul Shrubb":MAILTO:paul.shrubb.srfc@gmail.com
END:VEVENT
BEGIN:VEVENT
DTSTART;TZID=Europe/London:20260827T130000
DTEND;TZID=Europe/London:20260827T140000
DTSTAMP:20260421T024623
CREATED:20260320T115401Z
LAST-MODIFIED:20260320T115401Z
UID:4840-1787835600-1787839200@srfc.bmfa.club
SUMMARY:Glider mid-week contest 10
DESCRIPTION:The 2026 competition for up to 2.5m span electrically launched gliders will begin in April as usual and will run at Coombes\, twice a month on Thursdays at 1300 for around an hour\, until mid September. A simple height limiter is required. The club has spares available and they are easily fitted on the day. Contact the glider representative if you need to borrow one.
URL:https://srfc.bmfa.club/event/glider-mid-week-contest-10
LOCATION:Coombes\, South Downs National Park\, Lancing\, West Sussex\, BN15\, United Kingdom
END:VEVENT
BEGIN:VEVENT
DTSTART;TZID=Europe/London:20260830T130000
DTEND;TZID=Europe/London:20260830T140000
DTSTAMP:20260421T024623
CREATED:20260320T120450Z
LAST-MODIFIED:20260320T120450Z
UID:4857-1788094800-1788098400@srfc.bmfa.club
SUMMARY:Glider RES contest 5 – Sunday at Ashurst
DESCRIPTION:Monthly contest starting at 1300 and lasting around an hour for up to 2m span electrically launched RES gliders. These have Rudder\, Elevator & Spoiler controls only. A simple height limiter is required. The club has two spares available and they are easily fitted on the day. Contact the glider representative if you need to borrow one.
URL:https://srfc.bmfa.club/event/glider-res-contest-5-sunday-at-ashurst
LOCATION:Ashurst\, Horsham Road\, Ashurst\, West Sussex\, United Kingdom
END:VEVENT
BEGIN:VEVENT
DTSTART;TZID=Europe/London:20260905T150000
DTEND;TZID=Europe/London:20260905T200000
DTSTAMP:20260421T024623
CREATED:20260411T102013Z
LAST-MODIFIED:20260411T102013Z
UID:4885-1788620400-1788638400@srfc.bmfa.club
SUMMARY:September Club Afternoon & BBQ - "Anything that flies"
DESCRIPTION:September Club afternoon & BBQ at Coombes will include themed flying plus general flying between slots\, starting at 15:00 and finishing at 19:00 to 20:00 depending upon conditions. \nThe September theme will be “Anything that flies”. \nCome and fly\, or just enjoy the BBQ and the chat! \nNote that all models are welcome in the general flying slots.
URL:https://srfc.bmfa.club/event/september-club-afternoon-bbq-anything-that-flies
LOCATION:Coombes\, South Downs National Park\, Lancing\, West Sussex\, BN15\, United Kingdom
END:VEVENT
BEGIN:VEVENT
DTSTART;TZID=Europe/London:20260910T130000
DTEND;TZID=Europe/London:20260910T140000
DTSTAMP:20260421T024623
CREATED:20260320T115459Z
LAST-MODIFIED:20260320T115459Z
UID:4842-1789045200-1789048800@srfc.bmfa.club
SUMMARY:Glider mid-week contest 11
DESCRIPTION:The 2026 competition for up to 2.5m span electrically launched gliders will begin in April as usual and will run at Coombes\, twice a month on Thursdays at 1300 for around an hour\, until mid September. A simple height limiter is required. The club has spares available and they are easily fitted on the day. Contact the glider representative if you need to borrow one.
URL:https://srfc.bmfa.club/event/glider-mid-week-contest-11
LOCATION:Coombes\, South Downs National Park\, Lancing\, West Sussex\, BN15\, United Kingdom
END:VEVENT
BEGIN:VEVENT
DTSTART;TZID=Europe/London:20260917T130000
DTEND;TZID=Europe/London:20260917T143000
DTSTAMP:20260421T024623
CREATED:20260320T083429Z
LAST-MODIFIED:20260325T105436Z
UID:4820-1789650000-1789655400@srfc.bmfa.club
SUMMARY:Power Contest 6
DESCRIPTION:Paul Shrubb is running these monthly Thursday competitions which comprise a selection of fun tasks chosen on the day. Take a look at this guide before the day. Power comp guide \nThe competitions will take place on Thursdays at Coombes. They will start at 1pm and last about an hour and a half. \nAs always\, they are weather dependant. Join the Coombes WhatsApp group for the latest updates.
URL:https://srfc.bmfa.club/event/power-contest-6
LOCATION:Coombes\, South Downs National Park\, Lancing\, West Sussex\, BN15\, United Kingdom
ORGANIZER;CN="Paul Shrubb":MAILTO:paul.shrubb.srfc@gmail.com
END:VEVENT
BEGIN:VEVENT
DTSTART;TZID=Europe/London:20260924T130000
DTEND;TZID=Europe/London:20260924T140000
DTSTAMP:20260421T024623
CREATED:20260320T115536Z
LAST-MODIFIED:20260320T115536Z
UID:4844-1790254800-1790258400@srfc.bmfa.club
SUMMARY:Glider mid-week contest 12
DESCRIPTION:The 2026 competition for up to 2.5m span electrically launched gliders will begin in April as usual and will run at Coombes\, twice a month on Thursdays at 1300 for around an hour\, until mid September. A simple height limiter is required. The club has spares available and they are easily fitted on the day. Contact the glider representative if you need to borrow one.
URL:https://srfc.bmfa.club/event/glider-mid-week-contest-12
LOCATION:Coombes\, South Downs National Park\, Lancing\, West Sussex\, BN15\, United Kingdom
END:VEVENT
BEGIN:VEVENT
DTSTART;TZID=Europe/London:20260927T130000
DTEND;TZID=Europe/London:20260927T140000
DTSTAMP:20260421T024623
CREATED:20260320T120540Z
LAST-MODIFIED:20260320T120613Z
UID:4859-1790514000-1790517600@srfc.bmfa.club
SUMMARY:Glider RES contest 6 – Sunday at Ashurst
DESCRIPTION:Monthly contest starting at 1300 and lasting around an hour for up to 2m span electrically launched RES gliders. These have Rudder\, Elevator & Spoiler controls only. A simple height limiter is required. The club has two spares available and they are easily fitted on the day. Contact the glider representative if you need to borrow one.
URL:https://srfc.bmfa.club/event/glider-res-contest-6-sunday-at-ashurst
LOCATION:Ashurst\, Horsham Road\, Ashurst\, West Sussex\, United Kingdom
END:VEVENT
END:VCALENDAR