BEGIN:VCALENDAR
VERSION:2.0
PRODID:-//Sussex Radio Flying Club - ECPv6.15.20//NONSGML v1.0//EN
CALSCALE:GREGORIAN
METHOD:PUBLISH
X-WR-CALNAME:Sussex Radio Flying Club
X-ORIGINAL-URL:https://srfc.bmfa.club
X-WR-CALDESC:Events for Sussex Radio Flying Club
REFRESH-INTERVAL;VALUE=DURATION:PT1H
X-Robots-Tag:noindex
X-PUBLISHED-TTL:PT1H
BEGIN:VTIMEZONE
TZID:Europe/London
BEGIN:DAYLIGHT
TZOFFSETFROM:+0000
TZOFFSETTO:+0100
TZNAME:BST
DTSTART:20250330T010000
END:DAYLIGHT
BEGIN:STANDARD
TZOFFSETFROM:+0100
TZOFFSETTO:+0000
TZNAME:GMT
DTSTART:20251026T010000
END:STANDARD
BEGIN:DAYLIGHT
TZOFFSETFROM:+0000
TZOFFSETTO:+0100
TZNAME:BST
DTSTART:20260329T010000
END:DAYLIGHT
BEGIN:STANDARD
TZOFFSETFROM:+0100
TZOFFSETTO:+0000
TZNAME:GMT
DTSTART:20261025T010000
END:STANDARD
BEGIN:DAYLIGHT
TZOFFSETFROM:+0000
TZOFFSETTO:+0100
TZNAME:BST
DTSTART:20270328T010000
END:DAYLIGHT
BEGIN:STANDARD
TZOFFSETFROM:+0100
TZOFFSETTO:+0000
TZNAME:GMT
DTSTART:20271031T010000
END:STANDARD
END:VTIMEZONE
BEGIN:VEVENT
DTSTART;TZID=Europe/London:20260426T130000
DTEND;TZID=Europe/London:20260426T140000
DTSTAMP:20260422T003558
CREATED:20260320T115933Z
LAST-MODIFIED:20260320T120007Z
UID:4846-1777208400-1777212000@srfc.bmfa.club
SUMMARY:Glider RES contest 1 - Sunday at Ashurst
DESCRIPTION:Monthly contest starting at 1300 and lasting around an hour for up to 2m span electrically launched RES gliders. These have Rudder\, Elevator & Spoiler controls only. A simple height limiter is required. The club has two spares available and they are easily fitted on the day. Contact the glider representative if you need to borrow one.
URL:https://srfc.bmfa.club/event/glider-res-contest-sunday-at-ashurst
LOCATION:Ashurst\, Horsham Road\, Ashurst\, West Sussex\, United Kingdom
END:VEVENT
BEGIN:VEVENT
DTSTART;TZID=Europe/London:20260423T130000
DTEND;TZID=Europe/London:20260423T143000
DTSTAMP:20260422T003558
CREATED:20260320T083008Z
LAST-MODIFIED:20260325T105351Z
UID:4809-1776949200-1776954600@srfc.bmfa.club
SUMMARY:Power contest 1
DESCRIPTION:Paul Shrubb is running these monthly Thursday competitions which comprise a selection of fun tasks chosen on the day. Take a look at this guide before the day. Power comp guide \nThe competitions will take place on Thursdays at Coombes. They will start at 1pm and last about an hour and a half. \nAs always\, they are weather dependant. Join the Coombes WhatsApp group for the latest updates.
URL:https://srfc.bmfa.club/event/power-contest-1
LOCATION:Coombes\, South Downs National Park\, Lancing\, West Sussex\, BN15\, United Kingdom
ORGANIZER;CN="Paul Shrubb":MAILTO:paul.shrubb.srfc@gmail.com
END:VEVENT
BEGIN:VEVENT
DTSTART;TZID=Europe/London:20260416T130000
DTEND;TZID=Europe/London:20260416T140000
DTSTAMP:20260422T003558
CREATED:20260320T114537Z
LAST-MODIFIED:20260320T114537Z
UID:4822-1776344400-1776348000@srfc.bmfa.club
SUMMARY:Glider mid-week contest 1
DESCRIPTION:The 2026 competition for up to 2.5m span electrically launched gliders will run at Coombes\, twice a month on Thursdays at 1300 for around an hour\, until mid September. A simple height limiter is required. The club has spares available and they are easily fitted on the day. Contact the glider representative if you need to borrow one.
URL:https://srfc.bmfa.club/event/glider-mid-week-contest-1
LOCATION:Coombes\, South Downs National Park\, Lancing\, West Sussex\, BN15\, United Kingdom
END:VEVENT
BEGIN:VEVENT
DTSTART;TZID=Europe/London:20260410T193000
DTEND;TZID=Europe/London:20260410T213000
DTSTAMP:20260422T003558
CREATED:20250317T141251Z
LAST-MODIFIED:20260208T214822Z
UID:4183-1775849400-1775856600@srfc.bmfa.club
SUMMARY:April Club night (one week later than usual) - talk "Flying the Hunter and Other Things"
DESCRIPTION:There will be an extra talk this winter\, “Flying the Hunter and Other Things”. It will be on the second week of April to avoid the Easter Bank Holiday weekend. \n(The Spring and Autumn auctions will be combined into a grand October auction.)
URL:https://srfc.bmfa.club/event/april-2026-club-auction-at-the-john-selden
LOCATION:John Selden Pub\, John Selden\, Half Moon Lane\, Worthing\, West Sussex\, BN13 2EN\, United Kingdom
END:VEVENT
END:VCALENDAR